BEGIN:VCALENDAR
PRODID:www.eostroleka.pl
VERSION:2.0
BEGIN:VEVENT
DTSTART:20260503T180000Z
DTEND:20260503T235959Z
DESCRIPTION: 
LOCATION:Ostrołęka
SUMMARY:Koncert "Duma i Wolność: od Konstytucji do Europy”
END:VEVENT
END:VCALENDAR
